BEGIN:VCALENDAR
VERSION:2.0
PRODID:-//hacksw/handcal//NONSGML v1.0//EN
CALSCALE:GREGORIAN
BEGIN:VEVENT
DESCRIPTION:If your seller can’t deliver in the moment\, your campaign didn’t convert\, your forecast won’t hold\, and your strategy stalls. In this interactive\, inside look at Highspot’s Winter Launch\, see how high-performing teams are translating buyer signals into winning action. This is no regular webinar. Instead\, we’ll be using a live and engaging conversational format with our product experts to show you how our new capabilities across Deal Intelligence\, AI-powered feedback\, and dynamic Role Play are helping sellers prepare faster\, respond with confidence\, and move deals forward. Whether you’re focused on driving pipeline\, scaling effective training\, or ensuring your go-to-market plans land in the field\, this launch connects the work of every team to the moment of truth in the sales conversation. Because when sellers win\, everyone wins. With Highspot\, wins happen here. Register to view the recording. Based in EMEA? Experience Winter Launch in your time zone\, register here  
LOCATION:
DTSTART:20260204T170000Z
DTEND:20260204T180000Z
SUMMARY:Highspot’s Winter Launch Showcase: Built to Help You Win
DTSTAMP:20260420T143831Z
UID:69e63a676c72d
END:VEVENT
END:VCALENDAR